BEGIN:VCALENDAR
VERSION:2.0
PRODID:-//Exil - ECPv6.15.20//NONSGML v1.0//EN
CALSCALE:GREGORIAN
METHOD:PUBLISH
X-ORIGINAL-URL:https://exilverein.de
X-WR-CALDESC:Veranstaltungen für Exil
REFRESH-INTERVAL;VALUE=DURATION:PT1H
X-Robots-Tag:noindex
X-PUBLISHED-TTL:PT1H
BEGIN:VTIMEZONE
TZID:Europe/Berlin
BEGIN:DAYLIGHT
TZOFFSETFROM:+0100
TZOFFSETTO:+0200
TZNAME:CEST
DTSTART:20210328T010000
END:DAYLIGHT
BEGIN:STANDARD
TZOFFSETFROM:+0200
TZOFFSETTO:+0100
TZNAME:CET
DTSTART:20211031T010000
END:STANDARD
BEGIN:DAYLIGHT
TZOFFSETFROM:+0100
TZOFFSETTO:+0200
TZNAME:CEST
DTSTART:20220327T010000
END:DAYLIGHT
BEGIN:STANDARD
TZOFFSETFROM:+0200
TZOFFSETTO:+0100
TZNAME:CET
DTSTART:20221030T010000
END:STANDARD
BEGIN:DAYLIGHT
TZOFFSETFROM:+0100
TZOFFSETTO:+0200
TZNAME:CEST
DTSTART:20230326T010000
END:DAYLIGHT
BEGIN:STANDARD
TZOFFSETFROM:+0200
TZOFFSETTO:+0100
TZNAME:CET
DTSTART:20231029T010000
END:STANDARD
END:VTIMEZONE
BEGIN:VEVENT
DTSTART;TZID=Europe/Berlin:20220323T160000
DTEND;TZID=Europe/Berlin:20220323T190000
DTSTAMP:20260426T002537
CREATED:20220116T200818Z
LAST-MODIFIED:20220130T113718Z
UID:69553-1648051200-1648062000@exilverein.de
SUMMARY:Online-Poetry Slam Workshop mit Shafia Khawaja
DESCRIPTION:Die Workshops sind identisch – bitte nur für einen Termin anmelden! \nShafia Khawaja ist gebürtige Hamburgerin\, studiert aber zur Zeit Journalismus in Wien. Zusätzlich ist sie Poetry-Slammerin mit Leidenschaft! Seit jeher liebt sie es\, Geschichten und Texte zu schreiben\, wagte sich aber erst 2019 auf die Bühnen Österreichs. Poetry Slam hat ihr die Stimme gegeben\, die ihr fehlte\, um mit Anfeindungen und Rassismus-Erfahrungen umzugehen. In ihren Texten geht es allerdings nicht nur um die Frage “Wo kommst du wirklich her?” und warum diese nervt\, sondern auch um andere alltäglichen Probleme. \nShafia hat mehrfach an den Landesmeisterschaften Wien-Niederösterreich-Burgenland teilgenommen\, zahlreiche Poetry Slam-Auftritte gehabt und ist dieses Jahr bei den Österreichischen Meisterschaften Dritte geworden. Im Rahmen der “Internationalen Wochen gegen Rassismus” bietet sie nun einen Online-Poetry-Slam-Workshop an! \nAn zwei verschiedenen Tagen wird Shafia euch in die Welt des Poetry Slam und des Texte-Schreibens mitnehmen und euch dabei unterstützen\, eure Gedanken und Erfahrungen zu verschriftlichen. Die Schreibwerkstatt richtet sich an alle\, die sich als BiPoCs und/oder Menschen mit Migrationsgeschichte identifizieren und Rassismuserfahrungen machen oder gemacht haben. \nDie Termine hierfür sind Mittwoch\, 23. März\, 16-19 Uhr\, sowie Sonntag\, 27. März\, 14-17 Uhr. Anmelden kannst du dich via E-mail mit deinem Namen und Wunschtermin an pr@exilverein.de. Den Link zur Online-Veranstaltung schicken wir dir anschließend rechtzeitig zu. \nMelde dich jetzt an! Wir freuen uns auf dich!
URL:https://exilverein.de/event/poetry-slam-workshop/2022-03-23/
LOCATION:Wird nach Anmeldung bekanntgegeben
ATTACH;FMTTYPE=image/jpeg:https://exilverein.de/wp-content/uploads/2022/01/shafia_khawaja-scaled.jpg
ORGANIZER;CN="Exil e.V.":MAILTO:kontakt@exilverein.de
END:VEVENT
END:VCALENDAR