BEGIN:VCALENDAR
VERSION:2.0
PRODID:-//Exil - ECPv6.15.20//NONSGML v1.0//EN
CALSCALE:GREGORIAN
METHOD:PUBLISH
X-ORIGINAL-URL:https://exilverein.de
X-WR-CALDESC:Veranstaltungen für Exil
REFRESH-INTERVAL;VALUE=DURATION:PT1H
X-Robots-Tag:noindex
X-PUBLISHED-TTL:PT1H
BEGIN:VTIMEZONE
TZID:Europe/Berlin
BEGIN:DAYLIGHT
TZOFFSETFROM:+0100
TZOFFSETTO:+0200
TZNAME:CEST
DTSTART:20210328T010000
END:DAYLIGHT
BEGIN:STANDARD
TZOFFSETFROM:+0200
TZOFFSETTO:+0100
TZNAME:CET
DTSTART:20211031T010000
END:STANDARD
BEGIN:DAYLIGHT
TZOFFSETFROM:+0100
TZOFFSETTO:+0200
TZNAME:CEST
DTSTART:20220327T010000
END:DAYLIGHT
BEGIN:STANDARD
TZOFFSETFROM:+0200
TZOFFSETTO:+0100
TZNAME:CET
DTSTART:20221030T010000
END:STANDARD
BEGIN:DAYLIGHT
TZOFFSETFROM:+0100
TZOFFSETTO:+0200
TZNAME:CEST
DTSTART:20230326T010000
END:DAYLIGHT
BEGIN:STANDARD
TZOFFSETFROM:+0200
TZOFFSETTO:+0100
TZNAME:CET
DTSTART:20231029T010000
END:STANDARD
END:VTIMEZONE
BEGIN:VEVENT
DTSTART;TZID=Europe/Berlin:20220916T200000
DTEND;TZID=Europe/Berlin:20220916T230000
DTSTAMP:20260425T175742
CREATED:20220812T112209Z
LAST-MODIFIED:20220812T112209Z
UID:71880-1663358400-1663369200@exilverein.de
SUMMARY:Amandla - Aufstehen für Toleranz\, Respekt und Frieden
DESCRIPTION:Unter dem Motto „Aufstehen für Toleranz\, Respekt und Frieden“ laden wir am 16. September zu einem Begegnungsabend und Konzert mit den Bands Edgar Muzah & Friends\, Makatumbe und Harambee ins Lutherhaus ein\, bei dem sich über die Arbeit des Vereins informiert und ausgetauscht werden kann. Im Fokus: Beratung und Unterstützung für Betroffene\, die rechte\, rassistische\, antisemitische oder eine andere Form menschenfeindlicher Gewalt erlebt haben. \nNach einem kurzen Imagefilm über die Betroffenenberatung Niedersachsen und einem Redebeitrag beginnt ein musikalisches Rahmenprogramm. Musik ist ein hervorragendes Medium\, um auf soziale Belange aufmerksam zu machen. Die Amandla-Initiative bietet hier eine breite Plattform\, die musikalisch in eine Vielzahl von Ländern führt. “Amandla” ist eine politische Grußformel aus der Zeit der Antiapartheitsbewegung in Südafrika und bedeutet Power. Denn mit dieser Kraft setzt sich das Programm gegen Rassismus und alle Formen der Diskriminierung ein. \nMit der Gruppe Edgar Muzah & Friends werden Gäste aus Südafrika erwartet. Unterstützt werden die Musiker durch die Bands Makatumbe aus Hannover und Harambee Live aus Osnabrück. \nFREITAG\, 16.09.2022\nLutherhaus\, 20.00 Uhr\, Einlass 19.00 Uhr \nDer Eintritt ist frei. \nVeranstalter: Exil e.V. Osnabrück in Kooperation mit aBantu Development e.V. und aBantu Development Agency\, der Mandela Bay Development Agency und dem Bay Creatives Collective mit Unterstützung durch die Niedersächsische Lotto-Sport-Stiftung\, den Förderkreis Osnabrücker Friedensgespräche und das Büro für Friedenskultur der Stadt Osnabrück
URL:https://exilverein.de/event/amandla-aufstehen-fuer-toleranz-respekt-und-frieden/
LOCATION:Lutherhaus\, Jahnstraße 1\, Osnabrück\, 49080
ATTACH;FMTTYPE=image/jpeg:https://exilverein.de/wp-content/uploads/2022/08/Edgar-Muzah-Foto-Charné-Mungur.jpg
ORGANIZER;CN="Exil e.V.":MAILTO:kontakt@exilverein.de
END:VEVENT
BEGIN:VEVENT
DTSTART;TZID=Europe/Berlin:20220428T183000
DTEND;TZID=Europe/Berlin:20220428T203000
DTSTAMP:20260425T175742
CREATED:20220407T185809Z
LAST-MODIFIED:20220407T185809Z
UID:70782-1651170600-1651177800@exilverein.de
SUMMARY:Mitgliederversammlung von Exil
DESCRIPTION:Wir freuen uns darauf\, das letzte Vereinsjahr Revue passieren zu lassen. Hierfür laden wir herzlich ein zur diesjährigen Mitgliederversammlung am \n28. April 2022 um 18:30 Uhr\nim Lutherhaus\, Jahnstraße 1\, 49080 Osnabrück\nmit musikalischer Begleitung der Afro Fusion Band “Harambee” \nAuch Nichtmitglieder\, die sich ehrenamtlich im Verein engagieren oder unsere Arbeit kennenlernen möchten\, sind herzlich eingeladen. Sie können sich an dem Abend über die Vereinsarbeit informieren und bei dieser Gelegenheit gerne Mitglied werden.
URL:https://exilverein.de/event/mitgliederversammlung-von-exil/
LOCATION:Lutherhaus\, Jahnstraße 1\, Osnabrück\, 49080
ATTACH;FMTTYPE=image/jpeg:https://exilverein.de/wp-content/uploads/2021/08/vorstand.jpg
END:VEVENT
END:VCALENDAR