BEGIN:VCALENDAR
VERSION:2.0
PRODID:-//Exil - ECPv6.15.20//NONSGML v1.0//EN
CALSCALE:GREGORIAN
METHOD:PUBLISH
X-ORIGINAL-URL:https://exilverein.de
X-WR-CALDESC:Veranstaltungen für Exil
REFRESH-INTERVAL;VALUE=DURATION:PT1H
X-Robots-Tag:noindex
X-PUBLISHED-TTL:PT1H
BEGIN:VTIMEZONE
TZID:Europe/Berlin
BEGIN:DAYLIGHT
TZOFFSETFROM:+0100
TZOFFSETTO:+0200
TZNAME:CEST
DTSTART:20210328T010000
END:DAYLIGHT
BEGIN:STANDARD
TZOFFSETFROM:+0200
TZOFFSETTO:+0100
TZNAME:CET
DTSTART:20211031T010000
END:STANDARD
BEGIN:DAYLIGHT
TZOFFSETFROM:+0100
TZOFFSETTO:+0200
TZNAME:CEST
DTSTART:20220327T010000
END:DAYLIGHT
BEGIN:STANDARD
TZOFFSETFROM:+0200
TZOFFSETTO:+0100
TZNAME:CET
DTSTART:20221030T010000
END:STANDARD
BEGIN:DAYLIGHT
TZOFFSETFROM:+0100
TZOFFSETTO:+0200
TZNAME:CEST
DTSTART:20230326T010000
END:DAYLIGHT
BEGIN:STANDARD
TZOFFSETFROM:+0200
TZOFFSETTO:+0100
TZNAME:CET
DTSTART:20231029T010000
END:STANDARD
END:VTIMEZONE
BEGIN:VEVENT
DTSTART;TZID=Europe/Berlin:20220423T140000
DTEND;TZID=Europe/Berlin:20220423T230000
DTSTAMP:20260426T002254
CREATED:20220407T184754Z
LAST-MODIFIED:20220407T184754Z
UID:70767-1650722400-1650754800@exilverein.de
SUMMARY:Exil-Infostand beim "Yellow&Blue-Festival"
DESCRIPTION:„Osnabrück für den Frieden“ ist das Motto des „Yellow&Blue-Festivals“ am 23. April auf dem Domvorplatz: Auf Initiative der Musik- und Kunstschule Osnabrück und mit Unterstützung der Egerland-Stiftung wollen die Organisatorinnen gemeinsam mit zahlreichen Kindern\, Jugendlichen und jungen/junggebliebenen Erwachsenen ein Zeichen für den Frieden und gegen den Krieg in der Ukraine setzen. Unter dem Motto „Wir brauchen eine Zukunft ohne Kriege und Raketen“ werden „Weiße Fahnen“ zum gleichnamigen Lied im Publikum verteilt\, Live-Musik gibt es außerdem von Herr Jan und seiner Superbänd\, den Groove Onkels\, The Travelling Stone\, The Liveliners u.v.m. \nWir freuen uns\, das Festival mit einem Infostand zu unterstützen und auf tolle Gespräche und Begegnungen mit euch!
URL:https://exilverein.de/event/exil-infostand-beim-yellowblue-festival/
LOCATION:Domvorplatz\, Domplatz\, Osnabrück\, 49074\, Deutschland
ATTACH;FMTTYPE=image/jpeg:https://exilverein.de/wp-content/uploads/2022/04/yellow_blue_festival.jpeg
END:VEVENT
END:VCALENDAR