BEGIN:VCALENDAR
VERSION:2.0
PRODID:-//Exil - ECPv6.15.20//NONSGML v1.0//EN
CALSCALE:GREGORIAN
METHOD:PUBLISH
X-ORIGINAL-URL:https://exilverein.de
X-WR-CALDESC:Veranstaltungen für Exil
REFRESH-INTERVAL;VALUE=DURATION:PT1H
X-Robots-Tag:noindex
X-PUBLISHED-TTL:PT1H
BEGIN:VTIMEZONE
TZID:Europe/Berlin
BEGIN:DAYLIGHT
TZOFFSETFROM:+0100
TZOFFSETTO:+0200
TZNAME:CEST
DTSTART:20210328T010000
END:DAYLIGHT
BEGIN:STANDARD
TZOFFSETFROM:+0200
TZOFFSETTO:+0100
TZNAME:CET
DTSTART:20211031T010000
END:STANDARD
BEGIN:DAYLIGHT
TZOFFSETFROM:+0100
TZOFFSETTO:+0200
TZNAME:CEST
DTSTART:20220327T010000
END:DAYLIGHT
BEGIN:STANDARD
TZOFFSETFROM:+0200
TZOFFSETTO:+0100
TZNAME:CET
DTSTART:20221030T010000
END:STANDARD
BEGIN:DAYLIGHT
TZOFFSETFROM:+0100
TZOFFSETTO:+0200
TZNAME:CEST
DTSTART:20230326T010000
END:DAYLIGHT
BEGIN:STANDARD
TZOFFSETFROM:+0200
TZOFFSETTO:+0100
TZNAME:CET
DTSTART:20231029T010000
END:STANDARD
END:VTIMEZONE
BEGIN:VEVENT
DTSTART;TZID=Europe/Berlin:20220514T140000
DTEND;TZID=Europe/Berlin:20220514T190000
DTSTAMP:20260425T225006
CREATED:20220408T174647Z
LAST-MODIFIED:20220408T174647Z
UID:70808-1652536800-1652554800@exilverein.de
SUMMARY:Exil-Infostand beim Akyürek-Fest
DESCRIPTION:Am Samstag\, 14. Mai\, findet das Akyürek-Fest statt. Der gleichnamige Platz\, parallel zur Iburger Straße\, zwischen Bröckerweg und Hammersenstraße verlaufend\, lädt mit spannenden Angeboten und Attraktionen zum Verweilen und Feiern ein. \nSchon immer setzte sich Yilmaz Akyürek für ein friedvolles Zusammenleben der Menschen verschiedener Nationen ein. Der interkulturelle Austausch und der interreligiöse Dialog waren hierbei von besonderer Bedeutung. Für seine Verdienste erhielt Yilmaz Akyürek 1999 die Bürgermedaille der Stadt Osnabrück. Nach ihm ist auch der Integrationspreis der Stadt Osnabrück benannt. Das Fest steht ganz im Zeichen der Begegnung und des Dialogs von Menschen mit unterschiedlicher Herkunft. Die Besucher*innen erwarten zahlreiche Informationsstände von Vereinen\, Organisationen und Einrichtungen des Stadtteils\, die Interessantes und Wissenswertes präsentieren. Leckere Köstlichkeiten können an den Spezialitätenständen probiert werden. Außerdem lockt ein kulturell buntes Bühnenprogramm\, bei dem gerne mitgefeiert werden darf. \nWir freuen uns\, das Akyürek-Fest auch dieses Jahr wieder mit einem Infostand und Kinderschminken zu unterstützen und auf tolle Gespräche und Begegnungen mit euch!
URL:https://exilverein.de/event/exil-infostand-beim-akyuerek-fest/
LOCATION:Akyürek-Platz\, Akyürekplatz\, Osnabrück\, 49082
ATTACH;FMTTYPE=image/jpeg:https://exilverein.de/wp-content/uploads/2022/04/akyuerek-fest_2022.jpg
END:VEVENT
END:VCALENDAR