BEGIN:VCALENDAR
VERSION:2.0
PRODID:-//Exil - ECPv6.15.15//NONSGML v1.0//EN
CALSCALE:GREGORIAN
METHOD:PUBLISH
X-ORIGINAL-URL:https://exilverein.de
X-WR-CALDESC:Veranstaltungen für Exil
REFRESH-INTERVAL;VALUE=DURATION:PT1H
X-Robots-Tag:noindex
X-PUBLISHED-TTL:PT1H
BEGIN:VTIMEZONE
TZID:Europe/Berlin
BEGIN:DAYLIGHT
TZOFFSETFROM:+0100
TZOFFSETTO:+0200
TZNAME:CEST
DTSTART:20250330T010000
END:DAYLIGHT
BEGIN:STANDARD
TZOFFSETFROM:+0200
TZOFFSETTO:+0100
TZNAME:CET
DTSTART:20251026T010000
END:STANDARD
BEGIN:DAYLIGHT
TZOFFSETFROM:+0100
TZOFFSETTO:+0200
TZNAME:CEST
DTSTART:20260329T010000
END:DAYLIGHT
BEGIN:STANDARD
TZOFFSETFROM:+0200
TZOFFSETTO:+0100
TZNAME:CET
DTSTART:20261025T010000
END:STANDARD
BEGIN:DAYLIGHT
TZOFFSETFROM:+0100
TZOFFSETTO:+0200
TZNAME:CEST
DTSTART:20270328T010000
END:DAYLIGHT
BEGIN:STANDARD
TZOFFSETFROM:+0200
TZOFFSETTO:+0100
TZNAME:CET
DTSTART:20271031T010000
END:STANDARD
BEGIN:DAYLIGHT
TZOFFSETFROM:+0100
TZOFFSETTO:+0200
TZNAME:CEST
DTSTART:20280326T010000
END:DAYLIGHT
BEGIN:STANDARD
TZOFFSETFROM:+0200
TZOFFSETTO:+0100
TZNAME:CET
DTSTART:20281029T010000
END:STANDARD
END:VTIMEZONE
BEGIN:VEVENT
DTSTART;TZID=Europe/Berlin:20260428T160000
DTEND;TZID=Europe/Berlin:20260428T170000
DTSTAMP:20260424T074407
CREATED:20250221T104021Z
LAST-MODIFIED:20250221T104021Z
UID:80123-1777392000-1777395600@exilverein.de
SUMMARY:Info meeting for new volunteers or new participants - English
DESCRIPTION:The topics of our volunteer groups are diverse: cooking\, learning German\, activities with children and young people and much more. Most of our projects take the form of exchange meetings\, which are open to people with and without a migration background. \nAt this meeting\, we present each individual project and its programme and explain how you can take part as a participant or volunteer. \nTo register for the meeting\, please send an email to alejandra.bedoya@exilverein.de with your name\, the date and time you would like to come. We look forward to seeing new faces.
URL:https://exilverein.de/event/info-meeting-english/2026-04-28/
LOCATION:Exil bewegt gGmbH\, Möserstraße 36\, Osnabrück\, 49074\, Germany
ATTACH;FMTTYPE=image/jpeg:https://exilverein.de/wp-content/uploads/2024/12/winterfeier_2024.jpg
END:VEVENT
BEGIN:VEVENT
DTSTART;TZID=Europe/Berlin:20260513T143000
DTEND;TZID=Europe/Berlin:20260513T153000
DTSTAMP:20260424T074407
CREATED:20250221T104021Z
LAST-MODIFIED:20250221T104021Z
UID:80124-1778682600-1778686200@exilverein.de
SUMMARY:Info meeting for new volunteers or new participants - English
DESCRIPTION:The topics of our volunteer groups are diverse: cooking\, learning German\, activities with children and young people and much more. Most of our projects take the form of exchange meetings\, which are open to people with and without a migration background. \nAt this meeting\, we present each individual project and its programme and explain how you can take part as a participant or volunteer. \nTo register for the meeting\, please send an email to alejandra.bedoya@exilverein.de with your name\, the date and time you would like to come. We look forward to seeing new faces.
URL:https://exilverein.de/event/info-meeting-english/2026-05-13/
LOCATION:Exil bewegt gGmbH\, Möserstraße 36\, Osnabrück\, 49074\, Germany
ATTACH;FMTTYPE=image/jpeg:https://exilverein.de/wp-content/uploads/2024/12/winterfeier_2024.jpg
END:VEVENT
BEGIN:VEVENT
DTSTART;TZID=Europe/Berlin:20260526T160000
DTEND;TZID=Europe/Berlin:20260526T170000
DTSTAMP:20260424T074407
CREATED:20250221T104021Z
LAST-MODIFIED:20250221T104021Z
UID:80125-1779811200-1779814800@exilverein.de
SUMMARY:Info meeting for new volunteers or new participants - English
DESCRIPTION:The topics of our volunteer groups are diverse: cooking\, learning German\, activities with children and young people and much more. Most of our projects take the form of exchange meetings\, which are open to people with and without a migration background. \nAt this meeting\, we present each individual project and its programme and explain how you can take part as a participant or volunteer. \nTo register for the meeting\, please send an email to alejandra.bedoya@exilverein.de with your name\, the date and time you would like to come. We look forward to seeing new faces.
URL:https://exilverein.de/event/info-meeting-english/2026-05-26/
LOCATION:Exil bewegt gGmbH\, Möserstraße 36\, Osnabrück\, 49074\, Germany
ATTACH;FMTTYPE=image/jpeg:https://exilverein.de/wp-content/uploads/2024/12/winterfeier_2024.jpg
END:VEVENT
BEGIN:VEVENT
DTSTART;TZID=Europe/Berlin:20260610T143000
DTEND;TZID=Europe/Berlin:20260610T153000
DTSTAMP:20260424T074407
CREATED:20250221T104021Z
LAST-MODIFIED:20250221T104021Z
UID:80126-1781101800-1781105400@exilverein.de
SUMMARY:Info meeting for new volunteers or new participants - English
DESCRIPTION:The topics of our volunteer groups are diverse: cooking\, learning German\, activities with children and young people and much more. Most of our projects take the form of exchange meetings\, which are open to people with and without a migration background. \nAt this meeting\, we present each individual project and its programme and explain how you can take part as a participant or volunteer. \nTo register for the meeting\, please send an email to alejandra.bedoya@exilverein.de with your name\, the date and time you would like to come. We look forward to seeing new faces.
URL:https://exilverein.de/event/info-meeting-english/2026-06-10/
LOCATION:Exil bewegt gGmbH\, Möserstraße 36\, Osnabrück\, 49074\, Germany
ATTACH;FMTTYPE=image/jpeg:https://exilverein.de/wp-content/uploads/2024/12/winterfeier_2024.jpg
END:VEVENT
BEGIN:VEVENT
DTSTART;TZID=Europe/Berlin:20260623T160000
DTEND;TZID=Europe/Berlin:20260623T170000
DTSTAMP:20260424T074407
CREATED:20250221T104021Z
LAST-MODIFIED:20250221T104021Z
UID:80127-1782230400-1782234000@exilverein.de
SUMMARY:Info meeting for new volunteers or new participants - English
DESCRIPTION:The topics of our volunteer groups are diverse: cooking\, learning German\, activities with children and young people and much more. Most of our projects take the form of exchange meetings\, which are open to people with and without a migration background. \nAt this meeting\, we present each individual project and its programme and explain how you can take part as a participant or volunteer. \nTo register for the meeting\, please send an email to alejandra.bedoya@exilverein.de with your name\, the date and time you would like to come. We look forward to seeing new faces.
URL:https://exilverein.de/event/info-meeting-english/2026-06-23/
LOCATION:Exil bewegt gGmbH\, Möserstraße 36\, Osnabrück\, 49074\, Germany
ATTACH;FMTTYPE=image/jpeg:https://exilverein.de/wp-content/uploads/2024/12/winterfeier_2024.jpg
END:VEVENT
BEGIN:VEVENT
DTSTART;TZID=Europe/Berlin:20260708T143000
DTEND;TZID=Europe/Berlin:20260708T153000
DTSTAMP:20260424T074407
CREATED:20250221T104021Z
LAST-MODIFIED:20250221T104021Z
UID:80128-1783521000-1783524600@exilverein.de
SUMMARY:Info meeting for new volunteers or new participants - English
DESCRIPTION:The topics of our volunteer groups are diverse: cooking\, learning German\, activities with children and young people and much more. Most of our projects take the form of exchange meetings\, which are open to people with and without a migration background. \nAt this meeting\, we present each individual project and its programme and explain how you can take part as a participant or volunteer. \nTo register for the meeting\, please send an email to alejandra.bedoya@exilverein.de with your name\, the date and time you would like to come. We look forward to seeing new faces.
URL:https://exilverein.de/event/info-meeting-english/2026-07-08/
LOCATION:Exil bewegt gGmbH\, Möserstraße 36\, Osnabrück\, 49074\, Germany
ATTACH;FMTTYPE=image/jpeg:https://exilverein.de/wp-content/uploads/2024/12/winterfeier_2024.jpg
END:VEVENT
BEGIN:VEVENT
DTSTART;TZID=Europe/Berlin:20260728T160000
DTEND;TZID=Europe/Berlin:20260728T170000
DTSTAMP:20260424T074407
CREATED:20250221T104021Z
LAST-MODIFIED:20250221T104021Z
UID:80129-1785254400-1785258000@exilverein.de
SUMMARY:Info meeting for new volunteers or new participants - English
DESCRIPTION:The topics of our volunteer groups are diverse: cooking\, learning German\, activities with children and young people and much more. Most of our projects take the form of exchange meetings\, which are open to people with and without a migration background. \nAt this meeting\, we present each individual project and its programme and explain how you can take part as a participant or volunteer. \nTo register for the meeting\, please send an email to alejandra.bedoya@exilverein.de with your name\, the date and time you would like to come. We look forward to seeing new faces.
URL:https://exilverein.de/event/info-meeting-english/2026-07-28/
LOCATION:Exil bewegt gGmbH\, Möserstraße 36\, Osnabrück\, 49074\, Germany
ATTACH;FMTTYPE=image/jpeg:https://exilverein.de/wp-content/uploads/2024/12/winterfeier_2024.jpg
END:VEVENT
BEGIN:VEVENT
DTSTART;TZID=Europe/Berlin:20260812T143000
DTEND;TZID=Europe/Berlin:20260812T153000
DTSTAMP:20260424T074407
CREATED:20250221T104021Z
LAST-MODIFIED:20250221T104021Z
UID:80130-1786545000-1786548600@exilverein.de
SUMMARY:Info meeting for new volunteers or new participants - English
DESCRIPTION:The topics of our volunteer groups are diverse: cooking\, learning German\, activities with children and young people and much more. Most of our projects take the form of exchange meetings\, which are open to people with and without a migration background. \nAt this meeting\, we present each individual project and its programme and explain how you can take part as a participant or volunteer. \nTo register for the meeting\, please send an email to alejandra.bedoya@exilverein.de with your name\, the date and time you would like to come. We look forward to seeing new faces.
URL:https://exilverein.de/event/info-meeting-english/2026-08-12/
LOCATION:Exil bewegt gGmbH\, Möserstraße 36\, Osnabrück\, 49074\, Germany
ATTACH;FMTTYPE=image/jpeg:https://exilverein.de/wp-content/uploads/2024/12/winterfeier_2024.jpg
END:VEVENT
BEGIN:VEVENT
DTSTART;TZID=Europe/Berlin:20260825T160000
DTEND;TZID=Europe/Berlin:20260825T170000
DTSTAMP:20260424T074407
CREATED:20250221T104021Z
LAST-MODIFIED:20250221T104021Z
UID:80131-1787673600-1787677200@exilverein.de
SUMMARY:Info meeting for new volunteers or new participants - English
DESCRIPTION:The topics of our volunteer groups are diverse: cooking\, learning German\, activities with children and young people and much more. Most of our projects take the form of exchange meetings\, which are open to people with and without a migration background. \nAt this meeting\, we present each individual project and its programme and explain how you can take part as a participant or volunteer. \nTo register for the meeting\, please send an email to alejandra.bedoya@exilverein.de with your name\, the date and time you would like to come. We look forward to seeing new faces.
URL:https://exilverein.de/event/info-meeting-english/2026-08-25/
LOCATION:Exil bewegt gGmbH\, Möserstraße 36\, Osnabrück\, 49074\, Germany
ATTACH;FMTTYPE=image/jpeg:https://exilverein.de/wp-content/uploads/2024/12/winterfeier_2024.jpg
END:VEVENT
BEGIN:VEVENT
DTSTART;TZID=Europe/Berlin:20260909T143000
DTEND;TZID=Europe/Berlin:20260909T153000
DTSTAMP:20260424T074407
CREATED:20250221T104021Z
LAST-MODIFIED:20250221T104021Z
UID:80132-1788964200-1788967800@exilverein.de
SUMMARY:Info meeting for new volunteers or new participants - English
DESCRIPTION:The topics of our volunteer groups are diverse: cooking\, learning German\, activities with children and young people and much more. Most of our projects take the form of exchange meetings\, which are open to people with and without a migration background. \nAt this meeting\, we present each individual project and its programme and explain how you can take part as a participant or volunteer. \nTo register for the meeting\, please send an email to alejandra.bedoya@exilverein.de with your name\, the date and time you would like to come. We look forward to seeing new faces.
URL:https://exilverein.de/event/info-meeting-english/2026-09-09/
LOCATION:Exil bewegt gGmbH\, Möserstraße 36\, Osnabrück\, 49074\, Germany
ATTACH;FMTTYPE=image/jpeg:https://exilverein.de/wp-content/uploads/2024/12/winterfeier_2024.jpg
END:VEVENT
BEGIN:VEVENT
DTSTART;TZID=Europe/Berlin:20260922T160000
DTEND;TZID=Europe/Berlin:20260922T170000
DTSTAMP:20260424T074407
CREATED:20250221T104021Z
LAST-MODIFIED:20250221T104021Z
UID:80133-1790092800-1790096400@exilverein.de
SUMMARY:Info meeting for new volunteers or new participants - English
DESCRIPTION:The topics of our volunteer groups are diverse: cooking\, learning German\, activities with children and young people and much more. Most of our projects take the form of exchange meetings\, which are open to people with and without a migration background. \nAt this meeting\, we present each individual project and its programme and explain how you can take part as a participant or volunteer. \nTo register for the meeting\, please send an email to alejandra.bedoya@exilverein.de with your name\, the date and time you would like to come. We look forward to seeing new faces.
URL:https://exilverein.de/event/info-meeting-english/2026-09-22/
LOCATION:Exil bewegt gGmbH\, Möserstraße 36\, Osnabrück\, 49074\, Germany
ATTACH;FMTTYPE=image/jpeg:https://exilverein.de/wp-content/uploads/2024/12/winterfeier_2024.jpg
END:VEVENT
BEGIN:VEVENT
DTSTART;TZID=Europe/Berlin:20261014T143000
DTEND;TZID=Europe/Berlin:20261014T153000
DTSTAMP:20260424T074407
CREATED:20250221T104021Z
LAST-MODIFIED:20250221T104021Z
UID:80134-1791988200-1791991800@exilverein.de
SUMMARY:Info meeting for new volunteers or new participants - English
DESCRIPTION:The topics of our volunteer groups are diverse: cooking\, learning German\, activities with children and young people and much more. Most of our projects take the form of exchange meetings\, which are open to people with and without a migration background. \nAt this meeting\, we present each individual project and its programme and explain how you can take part as a participant or volunteer. \nTo register for the meeting\, please send an email to alejandra.bedoya@exilverein.de with your name\, the date and time you would like to come. We look forward to seeing new faces.
URL:https://exilverein.de/event/info-meeting-english/2026-10-14/
LOCATION:Exil bewegt gGmbH\, Möserstraße 36\, Osnabrück\, 49074\, Germany
ATTACH;FMTTYPE=image/jpeg:https://exilverein.de/wp-content/uploads/2024/12/winterfeier_2024.jpg
END:VEVENT
BEGIN:VEVENT
DTSTART;TZID=Europe/Berlin:20261027T160000
DTEND;TZID=Europe/Berlin:20261027T170000
DTSTAMP:20260424T074407
CREATED:20250221T104021Z
LAST-MODIFIED:20250221T104021Z
UID:80135-1793116800-1793120400@exilverein.de
SUMMARY:Info meeting for new volunteers or new participants - English
DESCRIPTION:The topics of our volunteer groups are diverse: cooking\, learning German\, activities with children and young people and much more. Most of our projects take the form of exchange meetings\, which are open to people with and without a migration background. \nAt this meeting\, we present each individual project and its programme and explain how you can take part as a participant or volunteer. \nTo register for the meeting\, please send an email to alejandra.bedoya@exilverein.de with your name\, the date and time you would like to come. We look forward to seeing new faces.
URL:https://exilverein.de/event/info-meeting-english/2026-10-27/
LOCATION:Exil bewegt gGmbH\, Möserstraße 36\, Osnabrück\, 49074\, Germany
ATTACH;FMTTYPE=image/jpeg:https://exilverein.de/wp-content/uploads/2024/12/winterfeier_2024.jpg
END:VEVENT
BEGIN:VEVENT
DTSTART;TZID=Europe/Berlin:20261111T143000
DTEND;TZID=Europe/Berlin:20261111T153000
DTSTAMP:20260424T074407
CREATED:20250221T104021Z
LAST-MODIFIED:20250221T104021Z
UID:80136-1794407400-1794411000@exilverein.de
SUMMARY:Info meeting for new volunteers or new participants - English
DESCRIPTION:The topics of our volunteer groups are diverse: cooking\, learning German\, activities with children and young people and much more. Most of our projects take the form of exchange meetings\, which are open to people with and without a migration background. \nAt this meeting\, we present each individual project and its programme and explain how you can take part as a participant or volunteer. \nTo register for the meeting\, please send an email to alejandra.bedoya@exilverein.de with your name\, the date and time you would like to come. We look forward to seeing new faces.
URL:https://exilverein.de/event/info-meeting-english/2026-11-11/
LOCATION:Exil bewegt gGmbH\, Möserstraße 36\, Osnabrück\, 49074\, Germany
ATTACH;FMTTYPE=image/jpeg:https://exilverein.de/wp-content/uploads/2024/12/winterfeier_2024.jpg
END:VEVENT
BEGIN:VEVENT
DTSTART;TZID=Europe/Berlin:20261124T160000
DTEND;TZID=Europe/Berlin:20261124T170000
DTSTAMP:20260424T074407
CREATED:20250221T104021Z
LAST-MODIFIED:20250221T104021Z
UID:80137-1795536000-1795539600@exilverein.de
SUMMARY:Info meeting for new volunteers or new participants - English
DESCRIPTION:The topics of our volunteer groups are diverse: cooking\, learning German\, activities with children and young people and much more. Most of our projects take the form of exchange meetings\, which are open to people with and without a migration background. \nAt this meeting\, we present each individual project and its programme and explain how you can take part as a participant or volunteer. \nTo register for the meeting\, please send an email to alejandra.bedoya@exilverein.de with your name\, the date and time you would like to come. We look forward to seeing new faces.
URL:https://exilverein.de/event/info-meeting-english/2026-11-24/
LOCATION:Exil bewegt gGmbH\, Möserstraße 36\, Osnabrück\, 49074\, Germany
ATTACH;FMTTYPE=image/jpeg:https://exilverein.de/wp-content/uploads/2024/12/winterfeier_2024.jpg
END:VEVENT
BEGIN:VEVENT
DTSTART;TZID=Europe/Berlin:20261209T143000
DTEND;TZID=Europe/Berlin:20261209T153000
DTSTAMP:20260424T074407
CREATED:20250221T104021Z
LAST-MODIFIED:20250221T104021Z
UID:80138-1796826600-1796830200@exilverein.de
SUMMARY:Info meeting for new volunteers or new participants - English
DESCRIPTION:The topics of our volunteer groups are diverse: cooking\, learning German\, activities with children and young people and much more. Most of our projects take the form of exchange meetings\, which are open to people with and without a migration background. \nAt this meeting\, we present each individual project and its programme and explain how you can take part as a participant or volunteer. \nTo register for the meeting\, please send an email to alejandra.bedoya@exilverein.de with your name\, the date and time you would like to come. We look forward to seeing new faces.
URL:https://exilverein.de/event/info-meeting-english/2026-12-09/
LOCATION:Exil bewegt gGmbH\, Möserstraße 36\, Osnabrück\, 49074\, Germany
ATTACH;FMTTYPE=image/jpeg:https://exilverein.de/wp-content/uploads/2024/12/winterfeier_2024.jpg
END:VEVENT
BEGIN:VEVENT
DTSTART;TZID=Europe/Berlin:20270113T143000
DTEND;TZID=Europe/Berlin:20270113T153000
DTSTAMP:20260424T074407
CREATED:20250221T104021Z
LAST-MODIFIED:20250221T104021Z
UID:80139-1799850600-1799854200@exilverein.de
SUMMARY:Info meeting for new volunteers or new participants - English
DESCRIPTION:The topics of our volunteer groups are diverse: cooking\, learning German\, activities with children and young people and much more. Most of our projects take the form of exchange meetings\, which are open to people with and without a migration background. \nAt this meeting\, we present each individual project and its programme and explain how you can take part as a participant or volunteer. \nTo register for the meeting\, please send an email to alejandra.bedoya@exilverein.de with your name\, the date and time you would like to come. We look forward to seeing new faces.
URL:https://exilverein.de/event/info-meeting-english/2027-01-13/
LOCATION:Exil bewegt gGmbH\, Möserstraße 36\, Osnabrück\, 49074\, Germany
ATTACH;FMTTYPE=image/jpeg:https://exilverein.de/wp-content/uploads/2024/12/winterfeier_2024.jpg
END:VEVENT
BEGIN:VEVENT
DTSTART;TZID=Europe/Berlin:20270126T160000
DTEND;TZID=Europe/Berlin:20270126T170000
DTSTAMP:20260424T074407
CREATED:20250221T104021Z
LAST-MODIFIED:20250221T104021Z
UID:80140-1800979200-1800982800@exilverein.de
SUMMARY:Info meeting for new volunteers or new participants - English
DESCRIPTION:The topics of our volunteer groups are diverse: cooking\, learning German\, activities with children and young people and much more. Most of our projects take the form of exchange meetings\, which are open to people with and without a migration background. \nAt this meeting\, we present each individual project and its programme and explain how you can take part as a participant or volunteer. \nTo register for the meeting\, please send an email to alejandra.bedoya@exilverein.de with your name\, the date and time you would like to come. We look forward to seeing new faces.
URL:https://exilverein.de/event/info-meeting-english/2027-01-26/
LOCATION:Exil bewegt gGmbH\, Möserstraße 36\, Osnabrück\, 49074\, Germany
ATTACH;FMTTYPE=image/jpeg:https://exilverein.de/wp-content/uploads/2024/12/winterfeier_2024.jpg
END:VEVENT
BEGIN:VEVENT
DTSTART;TZID=Europe/Berlin:20270210T143000
DTEND;TZID=Europe/Berlin:20270210T153000
DTSTAMP:20260424T074407
CREATED:20250221T104021Z
LAST-MODIFIED:20250221T104021Z
UID:80141-1802269800-1802273400@exilverein.de
SUMMARY:Info meeting for new volunteers or new participants - English
DESCRIPTION:The topics of our volunteer groups are diverse: cooking\, learning German\, activities with children and young people and much more. Most of our projects take the form of exchange meetings\, which are open to people with and without a migration background. \nAt this meeting\, we present each individual project and its programme and explain how you can take part as a participant or volunteer. \nTo register for the meeting\, please send an email to alejandra.bedoya@exilverein.de with your name\, the date and time you would like to come. We look forward to seeing new faces.
URL:https://exilverein.de/event/info-meeting-english/2027-02-10/
LOCATION:Exil bewegt gGmbH\, Möserstraße 36\, Osnabrück\, 49074\, Germany
ATTACH;FMTTYPE=image/jpeg:https://exilverein.de/wp-content/uploads/2024/12/winterfeier_2024.jpg
END:VEVENT
BEGIN:VEVENT
DTSTART;TZID=Europe/Berlin:20270223T160000
DTEND;TZID=Europe/Berlin:20270223T170000
DTSTAMP:20260424T074407
CREATED:20250221T104021Z
LAST-MODIFIED:20250221T104021Z
UID:80142-1803398400-1803402000@exilverein.de
SUMMARY:Info meeting for new volunteers or new participants - English
DESCRIPTION:The topics of our volunteer groups are diverse: cooking\, learning German\, activities with children and young people and much more. Most of our projects take the form of exchange meetings\, which are open to people with and without a migration background. \nAt this meeting\, we present each individual project and its programme and explain how you can take part as a participant or volunteer. \nTo register for the meeting\, please send an email to alejandra.bedoya@exilverein.de with your name\, the date and time you would like to come. We look forward to seeing new faces.
URL:https://exilverein.de/event/info-meeting-english/2027-02-23/
LOCATION:Exil bewegt gGmbH\, Möserstraße 36\, Osnabrück\, 49074\, Germany
ATTACH;FMTTYPE=image/jpeg:https://exilverein.de/wp-content/uploads/2024/12/winterfeier_2024.jpg
END:VEVENT
END:VCALENDAR